BEGIN:VCALENDAR
VERSION:2.0
PRODID:-//Lions Club Halle - ECPv6.8.1//NONSGML v1.0//EN
CALSCALE:GREGORIAN
METHOD:PUBLISH
X-WR-CALNAME:Lions Club Halle
X-ORIGINAL-URL:https://lions-halle-erxleben.de
X-WR-CALDESC:Veranstaltungen für Lions Club Halle
REFRESH-INTERVAL;VALUE=DURATION:PT1H
X-Robots-Tag:noindex
X-PUBLISHED-TTL:PT1H
BEGIN:VTIMEZONE
TZID:Europe/Berlin
BEGIN:DAYLIGHT
TZOFFSETFROM:+0100
TZOFFSETTO:+0200
TZNAME:CEST
DTSTART:20230326T010000
END:DAYLIGHT
BEGIN:STANDARD
TZOFFSETFROM:+0200
TZOFFSETTO:+0100
TZNAME:CET
DTSTART:20231029T010000
END:STANDARD
END:VTIMEZONE
BEGIN:VEVENT
DTSTART;TZID=Europe/Berlin:20231007T180000
DTEND;TZID=Europe/Berlin:20231007T220000
DTSTAMP:20260421T184254
CREATED:20230913T151800Z
LAST-MODIFIED:20230913T152001Z
UID:787-1696701600-1696716000@lions-halle-erxleben.de
SUMMARY:Seeterrassen Halle\, Golfplatz
DESCRIPTION:30-jähriges Jubiläum LC Halle-Fünf Türme\,\nmit Partner (60 € pro Person)
URL:https://lions-halle-erxleben.de/event/seeterrassen-halle-golfplatz/
END:VEVENT
END:VCALENDAR