BEGIN:VCALENDAR
VERSION:2.0
PRODID:-//Lions Club Halle - ECPv6.8.1//NONSGML v1.0//EN
CALSCALE:GREGORIAN
METHOD:PUBLISH
X-WR-CALNAME:Lions Club Halle
X-ORIGINAL-URL:https://lions-halle-erxleben.de
X-WR-CALDESC:Veranstaltungen für Lions Club Halle
REFRESH-INTERVAL;VALUE=DURATION:PT1H
X-Robots-Tag:noindex
X-PUBLISHED-TTL:PT1H
BEGIN:VTIMEZONE
TZID:Europe/Berlin
BEGIN:DAYLIGHT
TZOFFSETFROM:+0100
TZOFFSETTO:+0200
TZNAME:CEST
DTSTART:20240331T010000
END:DAYLIGHT
BEGIN:STANDARD
TZOFFSETFROM:+0200
TZOFFSETTO:+0100
TZNAME:CET
DTSTART:20241027T010000
END:STANDARD
END:VTIMEZONE
BEGIN:VEVENT
DTSTART;TZID=Europe/Berlin:20240109T193000
DTEND;TZID=Europe/Berlin:20240109T220000
DTSTAMP:20260421T122632
CREATED:20231211T145159Z
LAST-MODIFIED:20231211T145159Z
UID:966-1704828600-1704837600@lions-halle-erxleben.de
SUMMARY:Brasserie Lözius Clubsitzung und Vorstand\, Vorstellung outlaw
DESCRIPTION:
URL:https://lions-halle-erxleben.de/event/brasserie-loezius-clubsitzung-und-vorstand-vorstellung-outlaw/
END:VEVENT
BEGIN:VEVENT
DTSTART;TZID=Europe/Berlin:20240123T183000
DTEND;TZID=Europe/Berlin:20240123T220000
DTSTAMP:20260421T122632
CREATED:20231211T145318Z
LAST-MODIFIED:20231211T145318Z
UID:968-1706034600-1706047200@lions-halle-erxleben.de
SUMMARY:Neujahrskochen\, Küchenstudio Micheel
DESCRIPTION:
URL:https://lions-halle-erxleben.de/event/neujahrskochen-kuechenstudio-micheel/
END:VEVENT
END:VCALENDAR